BEGIN:VCALENDAR
VERSION:2.0
PRODID:-//pedco-ne.org//NONSGML kigkonsult.se iCalcreator 2.30.10//
CALSCALE:GREGORIAN
METHOD:PUBLISH
UID:9670926c-d9b8-4a5a-b12d-cb3560c73ad5
X-WR-CALDESC:Business size is an important topic in federal contracting: af
 ter all\, to be eligible to participate as a small business\, your busines
 s must first be\, well\, small. In this course\, government contracts atto
 rney Matthew Schoonover will discuss how the SBA calculates business size 
 under both a receipts-based and employee-based size standard. He’ll also d
 iscuss affiliation—a crucial topic for small businesses that\, if found\, 
 can turn your small business large!\n\nAfter taking this course\, you will
  learn:\n\nHow the SBA calculates size under a receipts-based and employee
 -based NAICS code\;\nHow the NAICS code impacts the size requirements\;  
 \nThe common ways the SBA finds an affiliation between companies\; and\nHo
 w to guard yourself against affiliation.\nTarget Audience: Small business 
 owners pursuing federal market opportunities.
X-WR-RELCALID:f31e058a0ec9bf1ddc7d0e55bbe9ad9a
X-WR-TIMEZONE:America/Chicago
BEGIN:VTIMEZONE
TZID:America/Chicago
BEGIN:STANDARD
TZNAME:CST
DTSTART:20221106T020000
TZOFFSETFROM:-0500
TZOFFSETTO:-0600
RDATE:20231105T020000
END:STANDARD
BEGIN:DAYLIGHT
TZNAME:CDT
DTSTART:20220313T020000
TZOFFSETFROM:-0600
TZOFFSETTO:-0500
RDATE:20230312T020000
RDATE:20240310T020000
END:DAYLIGHT
END:VTIMEZONE
BEGIN:VEVENT
UID:afc093c9-7ba6-4a28-9bee-17d0316edb06
DTSTAMP:20260422T061930Z
DESCRIPTION:Business size is an important topic in federal contracting: aft
 er all\, to be eligible to participate as a small business\, your business
  must first be\, well\, small. In this course\, government contracts attor
 ney Matthew Schoonover will discuss how the SBA calculates business size u
 nder both a receipts-based and employee-based size standard. He’ll also di
 scuss affiliation—a crucial topic for small businesses that\, if found\, c
 an turn your small business large!\n\nAfter taking this course\, you will 
 learn:\n\nHow the SBA calculates size under a receipts-based and employee-
 based NAICS code\;\nHow the NAICS code impacts the size requirements\;  \n
 The common ways the SBA finds an affiliation between companies\; and\nHow 
 to guard yourself against affiliation.\nTarget Audience: Small business ow
 ners pursuing federal market opportunities.
DTSTART;TZID=America/Chicago:20230209T130000
DTEND;TZID=America/Chicago:20230209T143000
LOCATION:https://govology.com/product/size-and-affiliation-is-your-business
 -actually-small/
SUMMARY:Size and Affiliation: Is Your Business Actually Small? (2023 Update
 )
END:VEVENT
END:VCALENDAR
