BEGIN:VCALENDAR
VERSION:2.0
PRODID:-//pedco-ne.org//NONSGML kigkonsult.se iCalcreator 2.30.10//
CALSCALE:GREGORIAN
METHOD:PUBLISH
UID:ee5958d8-993f-4f41-b850-85518a148155
X-WR-CALDESC:For small businesses and their teammates\, few government cont
 racting topics are as confusing as the limitations on subcontracting (LoS)
  for set-aside and socioeconomic sole-source contracts. And if that isn’t 
 stressful enough\, the “LoS” is an area of heavy enforcement: get it wrong
 \, and a contractor can face major penalties.\n\nWouldn’t it be nice if so
 meone explained the limitations on subcontracting in plain English? How gr
 eat would it be if small businesses and their teaming partners had a step-
 by-step process to help determine compliance? Look no further!\n\nIn this 
 webinar\, government contracts attorney Shane McCall will help you make se
 nse of the limitations on subcontracting. Using a step-by-step process and
  plenty of examples to help bring the rule to life\, he will help you ensu
 re that you understand and comply with this essential rule.\n\nTarget Audi
 ence: Small business federal contractors and their teammates
X-WR-RELCALID:1a7a82c878539150f725b34e8959cd14
X-WR-TIMEZONE:America/Chicago
BEGIN:VTIMEZONE
TZID:America/Chicago
BEGIN:STANDARD
TZNAME:CST
DTSTART:20221106T020000
TZOFFSETFROM:-0500
TZOFFSETTO:-0600
RDATE:20231105T020000
END:STANDARD
BEGIN:DAYLIGHT
TZNAME:CDT
DTSTART:20220313T020000
TZOFFSETFROM:-0600
TZOFFSETTO:-0500
RDATE:20230312T020000
RDATE:20240310T020000
END:DAYLIGHT
END:VTIMEZONE
BEGIN:VEVENT
UID:67c8a350-96cd-4f7f-b0ac-4a9ce93cb643
DTSTAMP:20260422T073720Z
DESCRIPTION:For small businesses and their teammates\, few government contr
 acting topics are as confusing as the limitations on subcontracting (LoS) 
 for set-aside and socioeconomic sole-source contracts. And if that isn’t s
 tressful enough\, the “LoS” is an area of heavy enforcement: get it wrong\
 , and a contractor can face major penalties.\n\nWouldn’t it be nice if som
 eone explained the limitations on subcontracting in plain English? How gre
 at would it be if small businesses and their teaming partners had a step-b
 y-step process to help determine compliance? Look no further!\n\nIn this w
 ebinar\, government contracts attorney Shane McCall will help you make sen
 se of the limitations on subcontracting. Using a step-by-step process and 
 plenty of examples to help bring the rule to life\, he will help you ensur
 e that you understand and comply with this essential rule.\n\nTarget Audie
 nce: Small business federal contractors and their teammates
DTSTART;TZID=America/Chicago:20230216T130000
DTEND;TZID=America/Chicago:20230216T143000
LOCATION:https://govology.com/product/limitations-on-subcontracting-a-step-
 by-step-compliance-guide/
SUMMARY:Limitations on Subcontracting: A Step-by-Step Compliance Guide (202
 3 Update)
END:VEVENT
END:VCALENDAR
