BEGIN:VCALENDAR
VERSION:2.0
PRODID:-//pedco-ne.org//NONSGML kigkonsult.se iCalcreator 2.30.10//
CALSCALE:GREGORIAN
METHOD:PUBLISH
UID:fab58e79-2b31-4cc1-bd5e-6b08613a8dde
X-WR-CALDESC:The SBA takes over certification of service-disabled veteran-o
 wned small businesses and veteran-owned small businesses on January 1\, 20
 23 – and soon\, all companies will require an SBA certification to qualify
  as an SDVOSB or VOSB. But what does it take to qualify for these powerful
  certifications?\n\nIn this course\, Govology Faculty Instructor & Legal A
 nalyst Steven Koprince offers a plain-English look at eligibility under th
 e new SBA certification program. The webinar will cover the SBA’s often-mi
 sunderstood “unconditional” ownership requirements\, the unique control re
 quirements\, and much more. Steven will also debunk some common SDVOSB/VOS
 B eligibility myths. Don’t miss it!\n\nTarget Audience: Veteran-owned smal
 l businesses pursuing federal market opportunities
X-WR-RELCALID:9817597b2b75001d95c094cc06a68de0
X-WR-TIMEZONE:America/Chicago
BEGIN:VTIMEZONE
TZID:America/Chicago
BEGIN:STANDARD
TZNAME:CST
DTSTART:20221106T020000
TZOFFSETFROM:-0500
TZOFFSETTO:-0600
RDATE:20231105T020000
END:STANDARD
BEGIN:DAYLIGHT
TZNAME:CDT
DTSTART:20220313T020000
TZOFFSETFROM:-0600
TZOFFSETTO:-0500
RDATE:20230312T020000
RDATE:20240310T020000
END:DAYLIGHT
END:VTIMEZONE
BEGIN:VEVENT
UID:68bfb89b-3285-435c-b3fe-4b17bdaf2c2c
DTSTAMP:20260422T062409Z
DESCRIPTION:The SBA takes over certification of service-disabled veteran-ow
 ned small businesses and veteran-owned small businesses on January 1\, 202
 3 – and soon\, all companies will require an SBA certification to qualify 
 as an SDVOSB or VOSB. But what does it take to qualify for these powerful 
 certifications?\n\nIn this course\, Govology Faculty Instructor & Legal An
 alyst Steven Koprince offers a plain-English look at eligibility under the
  new SBA certification program. The webinar will cover the SBA’s often-mis
 understood “unconditional” ownership requirements\, the unique control req
 uirements\, and much more. Steven will also debunk some common SDVOSB/VOSB
  eligibility myths. Don’t miss it!\n\nTarget Audience: Veteran-owned small
  businesses pursuing federal market opportunities
DTSTART;TZID=America/Chicago:20230221T130000
DTEND;TZID=America/Chicago:20230221T143000
LOCATION:https://govology.com/product/eligibility-criteria-and-new-rules-fo
 r-sba-veterans-certification-program/
SUMMARY:Eligibility Criteria and New Rules for SBA Veterans Certification P
 rogram
END:VEVENT
END:VCALENDAR
