BEGIN:VCALENDAR
VERSION:2.0
PRODID:-//pedco-ne.org//NONSGML kigkonsult.se iCalcreator 2.30.10//
CALSCALE:GREGORIAN
METHOD:PUBLISH
UID:b5475237-e690-4ee9-9e1e-03d8c980dc1c
X-WR-CALDESC:If your industry requires bonding\, this webinar is for you. I
 t will teach start-ups the challenges they will face in securing bonding f
 or the first time and provide guidance to contractors who are not quite re
 ady to produce financial statements.\n\nThe credit-based surety programs b
 ase approval on prior completion history and personal credit\, thus posing
  a potential problem for companies whose owners’ credit scores are less th
 an stellar. Hence\, in this webinar\, you will learn:\n\nHow the SBA bond 
 program can help you if your personal credit score is 660 or lower\; and\n
 Why even a modest bank line of credit can provide additional bonding suppo
 rt.\nIn addition\, you will also learn financial analysis basics and the i
 mportance of tracking your project using a Work In Progress schedule.\n\nS
 pecifically\, this webinar will cover the following topics:\n1. Suretyship
  Law – Surety v. Insurance\n2. Credit-Based Programs – Why personal credit
  is so important\n3. SBA Bond Guaranty Program – Federally-backed bond pro
 gram to help those whose credit score is relatively low\n4. Understanding 
 working capital and net worth calculations\n5. Defining Work in Progress –
  Percentage of completion basics\n6. Types of financial statement preparat
 ion\n\nTarget Audience: Start-up and small business contractors who initia
 lly need bonding or want to grow their surety capacity.
X-WR-RELCALID:58cba5b63a57b33f3bfbda7c84158912
X-WR-TIMEZONE:America/Chicago
BEGIN:VTIMEZONE
TZID:America/Chicago
BEGIN:STANDARD
TZNAME:CST
DTSTART:20221106T020000
TZOFFSETFROM:-0500
TZOFFSETTO:-0600
RDATE:20231105T020000
END:STANDARD
BEGIN:DAYLIGHT
TZNAME:CDT
DTSTART:20220313T020000
TZOFFSETFROM:-0600
TZOFFSETTO:-0500
RDATE:20230312T020000
RDATE:20240310T020000
END:DAYLIGHT
END:VTIMEZONE
BEGIN:VEVENT
UID:5a545614-dbbc-4430-84a5-20aa2c756c02
DTSTAMP:20260422T062210Z
DESCRIPTION:If your industry requires bonding\, this webinar is for you. It
  will teach start-ups the challenges they will face in securing bonding fo
 r the first time and provide guidance to contractors who are not quite rea
 dy to produce financial statements.\n\nThe credit-based surety programs ba
 se approval on prior completion history and personal credit\, thus posing 
 a potential problem for companies whose owners’ credit scores are less tha
 n stellar. Hence\, in this webinar\, you will learn:\n\nHow the SBA bond p
 rogram can help you if your personal credit score is 660 or lower\; and\nW
 hy even a modest bank line of credit can provide additional bonding suppor
 t.\nIn addition\, you will also learn financial analysis basics and the im
 portance of tracking your project using a Work In Progress schedule.\n\nSp
 ecifically\, this webinar will cover the following topics:\n1. Suretyship 
 Law – Surety v. Insurance\n2. Credit-Based Programs – Why personal credit 
 is so important\n3. SBA Bond Guaranty Program – Federally-backed bond prog
 ram to help those whose credit score is relatively low\n4. Understanding w
 orking capital and net worth calculations\n5. Defining Work in Progress – 
 Percentage of completion basics\n6. Types of financial statement preparati
 on\n\nTarget Audience: Start-up and small business contractors who initial
 ly need bonding or want to grow their surety capacity.
DTSTART;TZID=America/Chicago:20230228T120000
DTEND;TZID=America/Chicago:20230228T133000
LOCATION:https://govology.com/product/surety-bond-basics-for-government-con
 tracting-and-more/
SUMMARY:Surety Bond Basics for Government Contracting and More
END:VEVENT
END:VCALENDAR
