BEGIN:VCALENDAR
VERSION:2.0
PRODID:-//pedco-ne.org//NONSGML kigkonsult.se iCalcreator 2.30.10//
CALSCALE:GREGORIAN
METHOD:PUBLISH
UID:9d8f93ec-6ce5-4d59-ab26-ef79293c61fa
X-WR-CALDESC:In today’s competitive federal marketplace\, bid protests are 
 an inevitable feature of many procurements. As a contractor\, you can util
 ize debriefings and bid protests to go after awards that improperly went t
 o your competitors. If you want to succeed and increase your contracting o
 pportunities\, you must learn how to use these processes effectively and t
 o your advantage.\n\nIn this webinar\, experienced government contracts at
 torney Maria Panichelli will walk you through the protest process\, focusi
 ng on what issues to look for in debriefings\, deadlines\, and how to spot
  a winning protest.\n\nLearn to distinguish between bid protests and size/
 status protests\nIdentify key protestable issues\nDistinguish between type
 s of bid protests\nLearn bid protest filing deadlines\nUnderstand how to s
 pot a winning protest\nTarget Audience: Government contractors
X-WR-RELCALID:22b12297989fdac3e85bed476d97f9cb
X-WR-TIMEZONE:America/Chicago
BEGIN:VTIMEZONE
TZID:America/Chicago
BEGIN:STANDARD
TZNAME:CST
DTSTART:20221106T020000
TZOFFSETFROM:-0500
TZOFFSETTO:-0600
RDATE:20231105T020000
END:STANDARD
BEGIN:DAYLIGHT
TZNAME:CDT
DTSTART:20220313T020000
TZOFFSETFROM:-0600
TZOFFSETTO:-0500
RDATE:20230312T020000
RDATE:20240310T020000
END:DAYLIGHT
END:VTIMEZONE
BEGIN:VEVENT
UID:078d87c0-fbf3-4495-b41e-46b419b90a27
DTSTAMP:20260422T045321Z
DESCRIPTION:In today’s competitive federal marketplace\, bid protests are a
 n inevitable feature of many procurements. As a contractor\, you can utili
 ze debriefings and bid protests to go after awards that improperly went to
  your competitors. If you want to succeed and increase your contracting op
 portunities\, you must learn how to use these processes effectively and to
  your advantage.\n\nIn this webinar\, experienced government contracts att
 orney Maria Panichelli will walk you through the protest process\, focusin
 g on what issues to look for in debriefings\, deadlines\, and how to spot 
 a winning protest.\n\nLearn to distinguish between bid protests and size/s
 tatus protests\nIdentify key protestable issues\nDistinguish between types
  of bid protests\nLearn bid protest filing deadlines\nUnderstand how to sp
 ot a winning protest\nTarget Audience: Government contractors
DTSTART;TZID=America/Chicago:20230302T120000
DTEND;TZID=America/Chicago:20230302T133000
LOCATION:https://govology.com/product/effective-utilization-of-debriefings-
 and-asserting-bid-protests/
SUMMARY:Effective Utilization of Debriefings and Asserting Bid Protests
END:VEVENT
END:VCALENDAR
