BEGIN:VCALENDAR
VERSION:2.0
PRODID:-//pedco-ne.org//NONSGML kigkonsult.se iCalcreator 2.30.10//
CALSCALE:GREGORIAN
METHOD:PUBLISH
UID:20684865-b7d8-4d6c-9e74-b181e38b823a
X-WR-CALDESC:Description\nThe SBA took over the certification of veteran-ow
 ned small businesses (VOSB) on January 1\, 2023 – and soon\, all companies
  will require an SBA certification to qualify as a VOSB. But what are the 
 steps to register in this new system?\n\nIn this webinar\, Govology Facult
 y Instructor & Procurement Professional Dr. Shana Nicholson explains a ste
 p-by-step process for registering as a VOSB under the new SBA certificatio
 n program. This webinar will address the most common challenges\, review t
 he requirements for program eligibility\, go over the certification proces
 s\, and explain how to maintain your VOSB certification. We will also disc
 uss the benefits of the VOSB Federal Contracting program. Don’t miss it!\n
 \nTarget Audience: Veteran-Owned Small Businesses pursuing federal market 
 opportunities
X-WR-RELCALID:ef43b1fc55c572403248b42a539d41ff
X-WR-TIMEZONE:America/Chicago
BEGIN:VTIMEZONE
TZID:America/Chicago
BEGIN:STANDARD
TZNAME:CST
DTSTART:20221106T020000
TZOFFSETFROM:-0500
TZOFFSETTO:-0600
RDATE:20231105T020000
END:STANDARD
BEGIN:DAYLIGHT
TZNAME:CDT
DTSTART:20230312T020000
TZOFFSETFROM:-0600
TZOFFSETTO:-0500
RDATE:20240310T020000
END:DAYLIGHT
END:VTIMEZONE
BEGIN:VEVENT
UID:16113d84-9ffe-40f6-981b-42a934d7eb4f
DTSTAMP:20260422T045320Z
DESCRIPTION:Description\nThe SBA took over the certification of veteran-own
 ed small businesses (VOSB) on January 1\, 2023 – and soon\, all companies 
 will require an SBA certification to qualify as a VOSB. But what are the s
 teps to register in this new system?\n\nIn this webinar\, Govology Faculty
  Instructor & Procurement Professional Dr. Shana Nicholson explains a step
 -by-step process for registering as a VOSB under the new SBA certification
  program. This webinar will address the most common challenges\, review th
 e requirements for program eligibility\, go over the certification process
 \, and explain how to maintain your VOSB certification. We will also discu
 ss the benefits of the VOSB Federal Contracting program. Don’t miss it!\n
 \nTarget Audience: Veteran-Owned Small Businesses pursuing federal market 
 opportunities
DTSTART;TZID=America/Chicago:20230314T120000
DTEND;TZID=America/Chicago:20230314T133000
LOCATION:https://govology.com/product/a-step-by-step-guide-to-registering-a
 s-a-veteran-owned-small-business/
SUMMARY:A Step-By-Step Guide to Registering as a Veteran Owned Small Busine
 ss
END:VEVENT
END:VCALENDAR
