BEGIN:VCALENDAR
VERSION:2.0
PRODID:-//pedco-ne.org//NONSGML kigkonsult.se iCalcreator 2.30.10//
CALSCALE:GREGORIAN
METHOD:PUBLISH
UID:94e55380-1c1c-4fbb-b536-22ef8f10a05a
X-WR-CALDESC:The SBA revamped its HUBZone rules in the last few years\, mak
 ing several changes to the HUBZone program. However\, we continue to see u
 pdates to how SBA interprets these rules as it puts out policy guidance fr
 equently. In this webinar\, government contract attorneys Nicole Pottroff 
 & John Holtz from Koprince McCall Pottroff LLC discuss these changes and S
 BA’s related guidance. They also provide an overview of the HUBZone progra
 m’s requirements\, including:\n\nOwnership\, control\, and other HUBZone e
 ligibility criteria.\nBenefits: HUBZone set-asides\, sole-source contracts
 \, and price preference.\nThe principal office rule and why it may not be 
 your headquarters.\nThe 35% employee rule and the “attempt to maintain” st
 andard.\nWho qualifies as an employee\, and what happens if they move.\nMa
 intaining records of work performed by employees.\nThe clear line of fract
 ure standard.\nAnnual certification.\nProgram examinations.\nMaintaining c
 ompliance in a changing landscape.\nIf you’re a HUBZone contractor trying 
 to navigate these uncharted waters or have thought about obtaining HUBZone
  certification in the future\, this webinar is for you.\n\nTarget Audience
 : Companies pursuing contracting opportunities with the federal government
 \n\n
X-WR-RELCALID:c482fac9a6080b34cffccdaa6068859e
X-WR-TIMEZONE:America/Chicago
BEGIN:VTIMEZONE
TZID:America/Chicago
BEGIN:STANDARD
TZNAME:CST
DTSTART:20221106T020000
TZOFFSETFROM:-0500
TZOFFSETTO:-0600
RDATE:20231105T020000
END:STANDARD
BEGIN:DAYLIGHT
TZNAME:CDT
DTSTART:20230312T020000
TZOFFSETFROM:-0600
TZOFFSETTO:-0500
RDATE:20240310T020000
END:DAYLIGHT
END:VTIMEZONE
BEGIN:VEVENT
UID:45950b5f-443b-40ff-ad46-c1a5b82b8c89
DTSTAMP:20260422T045739Z
DESCRIPTION:The SBA revamped its HUBZone rules in the last few years\, maki
 ng several changes to the HUBZone program. However\, we continue to see up
 dates to how SBA interprets these rules as it puts out policy guidance fre
 quently. In this webinar\, government contract attorneys Nicole Pottroff &
  John Holtz from Koprince McCall Pottroff LLC discuss these changes and SB
 A’s related guidance. They also provide an overview of the HUBZone program
 ’s requirements\, including:\n\nOwnership\, control\, and other HUBZone el
 igibility criteria.\nBenefits: HUBZone set-asides\, sole-source contracts\
 , and price preference.\nThe principal office rule and why it may not be y
 our headquarters.\nThe 35% employee rule and the “attempt to maintain” sta
 ndard.\nWho qualifies as an employee\, and what happens if they move.\nMai
 ntaining records of work performed by employees.\nThe clear line of fractu
 re standard.\nAnnual certification.\nProgram examinations.\nMaintaining co
 mpliance in a changing landscape.\nIf you’re a HUBZone contractor trying t
 o navigate these uncharted waters or have thought about obtaining HUBZone 
 certification in the future\, this webinar is for you.\n\nTarget Audience:
  Companies pursuing contracting opportunities with the federal government
 \n\n
DTSTART;TZID=America/Chicago:20230321T120000
DTEND;TZID=America/Chicago:20230321T133000
LOCATION:https://govology.com/events/understanding-and-obtaining-hubzone-ce
 rtification-2023-update/
SUMMARY:Understanding and Obtaining HUBZone Certification (2023 Update)
END:VEVENT
END:VCALENDAR
