BEGIN:VCALENDAR
VERSION:2.0
PRODID:-//pedco-ne.org//NONSGML kigkonsult.se iCalcreator 2.30.10//
CALSCALE:GREGORIAN
METHOD:PUBLISH
UID:2adecdb5-0e39-4b3f-a3ad-fa1811e782f2
X-WR-CALDESC:The U.S. Small Business Administration’s 8(a) Business Develop
 ment Program offers unparalleled contracting opportunities\, but the eligi
 bility requirements are complicated and often misunderstood. In this webin
 ar\, Govology Faculty Instructor and Legal Analyst Steven Koprince explain
 s the 8(a) Program eligibility requirements in plain English. If you’re th
 inking about applying to the 8(a) Program\, or just curious what it would 
 take to be admitted\, this is the webinar for you.\n\nAfter this webinar\,
  you will:\n\nUnderstand the 8(a) Program’s social disadvantage requiremen
 ts\, including how a business owned by an individual who is not “presumed”
  socially disadvantaged may still qualify.\nKnow the 8(a)’s economic disad
 vantage thresholds\, which were adjusted in late 2022.\nUnderstand what “u
 nconditional ownership” means in the context of the 8(a) Program.\nUnderst
 and how a business satisfies the “unconditional control” 8(a) Program requ
 irement.\nBe aware of\, and avoid\, common misconceptions regarding 8(a) P
 rogram eligibility.\nTarget Audience: Small business contractors eligible 
 to apply for a Small Business Certification
X-WR-RELCALID:363dd02895bc903cede22a1e7b29309f
X-WR-TIMEZONE:America/Chicago
BEGIN:VTIMEZONE
TZID:America/Chicago
BEGIN:STANDARD
TZNAME:CST
DTSTART:20221106T020000
TZOFFSETFROM:-0500
TZOFFSETTO:-0600
RDATE:20231105T020000
END:STANDARD
BEGIN:DAYLIGHT
TZNAME:CDT
DTSTART:20230312T020000
TZOFFSETFROM:-0600
TZOFFSETTO:-0500
RDATE:20240310T020000
END:DAYLIGHT
END:VTIMEZONE
BEGIN:VEVENT
UID:d19c2056-9045-4dd6-9507-c10a62d093b8
DTSTAMP:20260422T045713Z
DESCRIPTION:The U.S. Small Business Administration’s 8(a) Business Developm
 ent Program offers unparalleled contracting opportunities\, but the eligib
 ility requirements are complicated and often misunderstood. In this webina
 r\, Govology Faculty Instructor and Legal Analyst Steven Koprince explains
  the 8(a) Program eligibility requirements in plain English. If you’re thi
 nking about applying to the 8(a) Program\, or just curious what it would t
 ake to be admitted\, this is the webinar for you.\n\nAfter this webinar\, 
 you will:\n\nUnderstand the 8(a) Program’s social disadvantage requirement
 s\, including how a business owned by an individual who is not “presumed” 
 socially disadvantaged may still qualify.\nKnow the 8(a)’s economic disadv
 antage thresholds\, which were adjusted in late 2022.\nUnderstand what “un
 conditional ownership” means in the context of the 8(a) Program.\nUndersta
 nd how a business satisfies the “unconditional control” 8(a) Program requi
 rement.\nBe aware of\, and avoid\, common misconceptions regarding 8(a) Pr
 ogram eligibility.\nTarget Audience: Small business contractors eligible t
 o apply for a Small Business Certification
DTSTART;TZID=America/Chicago:20230328T120000
DTEND;TZID=America/Chicago:20230328T133000
LOCATION:https://govology.com/events/eligibility-criteria-and-new-rules-for
 -sba-8a-certification-program/
SUMMARY:Eligibility Criteria and New Rules for SBA 8(a) Certification Progr
 am
END:VEVENT
END:VCALENDAR
