BEGIN:VCALENDAR
VERSION:2.0
PRODID:-//pedco-ne.org//NONSGML kigkonsult.se iCalcreator 2.30.10//
CALSCALE:GREGORIAN
METHOD:PUBLISH
UID:95989d93-4016-4ec5-af46-e07f630a3f24
X-WR-CALDESC:Description\nTouted as a “game-changer” when it was first intr
 oduced in 2016\, the U.S. Small Business Administration’s All Small Mentor
 -Protégé Program isn’t new anymore. Known now as simply the “SBA Mentor-Pr
 otégé Program\,” it is still extremely powerful for large and small contra
 ctors alike.\n\nIn this webinar\, government contracts attorneys Shane McC
 all and Nicole Pottroff (Koprince McCall Pottroff LLC) explain the ins and
  outs of the Mentor-Protégé Program\, covering the program’s eligibility r
 equirements\, its potent benefits (including the ability to form special m
 entor-protege joint ventures)\, the application process\, and common misco
 nceptions and pitfalls.\n\nTarget Audience: Small and large businesses int
 erested in the Mentor-Protege Program
X-WR-RELCALID:d93d7fb33a3dd1d6d0da6d69a40ea31c
X-WR-TIMEZONE:America/Chicago
BEGIN:VTIMEZONE
TZID:America/Chicago
BEGIN:STANDARD
TZNAME:CST
DTSTART:20221106T020000
TZOFFSETFROM:-0500
TZOFFSETTO:-0600
RDATE:20231105T020000
END:STANDARD
BEGIN:DAYLIGHT
TZNAME:CDT
DTSTART:20230312T020000
TZOFFSETFROM:-0600
TZOFFSETTO:-0500
RDATE:20240310T020000
END:DAYLIGHT
END:VTIMEZONE
BEGIN:VEVENT
UID:57667a86-bd41-486f-af20-9d15250357e7
DTSTAMP:20260422T030347Z
DESCRIPTION:Description\nTouted as a “game-changer” when it was first intro
 duced in 2016\, the U.S. Small Business Administration’s All Small Mentor-
 Protégé Program isn’t new anymore. Known now as simply the “SBA Mentor-Pro
 tégé Program\,” it is still extremely powerful for large and small contrac
 tors alike.\n\nIn this webinar\, government contracts attorneys Shane McCa
 ll and Nicole Pottroff (Koprince McCall Pottroff LLC) explain the ins and 
 outs of the Mentor-Protégé Program\, covering the program’s eligibility re
 quirements\, its potent benefits (including the ability to form special me
 ntor-protege joint ventures)\, the application process\, and common miscon
 ceptions and pitfalls.\n\nTarget Audience: Small and large businesses inte
 rested in the Mentor-Protege Program
DTSTART;TZID=America/Chicago:20230427T110000
DTEND;TZID=America/Chicago:20230427T123000
LOCATION:https://govology.com/product/universal-small-business-mentor-prote
 ge-program/
SUMMARY:Still a Game Changer: The SBA Mentor-Protégé Program (2023 Update)
END:VEVENT
END:VCALENDAR
