BEGIN:VCALENDAR
VERSION:2.0
PRODID:-//pedco-ne.org//NONSGML kigkonsult.se iCalcreator 2.30.10//
CALSCALE:GREGORIAN
METHOD:PUBLISH
UID:fc559e9a-3cd4-4b18-92ee-a1c5acee50ea
X-WR-CALDESC:Federal Emergency Management Agency (FEMA)\nOffice of the Chie
 f Component Procurement Officer (OCCPO)\nand FEMA Region VI\nPresents\nHow
  To Do Business With FEMA ZOOM Webinar\nWednesday\, May 3\, 2023\n12:00 p.
 m. - 2:30 p.m.\, Central Standard Time (CST)\nPRE-REGISTRATION REQUIRED\n►
  Register online at:\nhttps://fema.zoomgov.com/webinar/register/WN_ZggDrc1
 BQEKsBMl7pbLjcQ\nThe target audience for this webinar are businesses locat
 ed in the following states: Arkansas\, Louisiana\, New Mexico\, Oklahoma\,
  Texas\n► All registration requests must be completed by Tuesday\, May 2\,
  2023.\n► Each company may register a maximum of 3 (three) participants (N
 O EXCEPTIONS)\n► Registration will automatically close once maximum capaci
 ty has been reached (NO EXCEPTIONS)\n► Please submit questions regarding t
 his webinar to FEMA-Industry-Registration@fema.dhs.gov\nFederal Emergency 
 Management Agency\nU.S. Department of Homeland Security
X-WR-RELCALID:c301e2d57fb28828c64e5bcc67d44155
X-WR-TIMEZONE:America/Chicago
BEGIN:VTIMEZONE
TZID:America/Chicago
BEGIN:STANDARD
TZNAME:CST
DTSTART:20221106T020000
TZOFFSETFROM:-0500
TZOFFSETTO:-0600
RDATE:20231105T020000
END:STANDARD
BEGIN:DAYLIGHT
TZNAME:CDT
DTSTART:20230312T020000
TZOFFSETFROM:-0600
TZOFFSETTO:-0500
RDATE:20240310T020000
END:DAYLIGHT
END:VTIMEZONE
BEGIN:VEVENT
UID:66bea020-d2d3-423f-8182-9a78fd6ca95c
DTSTAMP:20260422T012502Z
DESCRIPTION:Federal Emergency Management Agency (FEMA)\nOffice of the Chief
  Component Procurement Officer (OCCPO)\nand FEMA Region VI\nPresents\nHow 
 To Do Business With FEMA ZOOM Webinar\nWednesday\, May 3\, 2023\n12:00 p.m
 . - 2:30 p.m.\, Central Standard Time (CST)\nPRE-REGISTRATION REQUIRED\n► 
 Register online at:\nhttps://fema.zoomgov.com/webinar/register/WN_ZggDrc1B
 QEKsBMl7pbLjcQ\nThe target audience for this webinar are businesses locate
 d in the following states: Arkansas\, Louisiana\, New Mexico\, Oklahoma\, 
 Texas\n► All registration requests must be completed by Tuesday\, May 2\, 
 2023.\n► Each company may register a maximum of 3 (three) participants (NO
  EXCEPTIONS)\n► Registration will automatically close once maximum capacit
 y has been reached (NO EXCEPTIONS)\n► Please submit questions regarding th
 is webinar to FEMA-Industry-Registration@fema.dhs.gov\nFederal Emergency M
 anagement Agency\nU.S. Department of Homeland Security
DTSTART;TZID=America/Chicago:20230503T120000
DTEND;TZID=America/Chicago:20230503T143000
LOCATION:https://fema.zoomgov.com/webinar/register/WN_ZggDrc1BQEKsBMl7pbLjc
 Q
SUMMARY:How To Do Business With FEMA ZOOM Webinar
END:VEVENT
END:VCALENDAR
