BEGIN:VCALENDAR
VERSION:2.0
PRODID:-//pedco-ne.org//NONSGML kigkonsult.se iCalcreator 2.30.10//
CALSCALE:GREGORIAN
METHOD:PUBLISH
UID:1cb5f446-0b87-467a-860e-901fa921a19a
X-WR-CALDESC:Description\nHave you ever received an award notice\, only to 
 be told several days later that the contract is on hold\, all because of a
  bid protest filed by a disgruntled competitor? If so\, you may know how h
 ard it can be to find answers and how quickly you can miss an important de
 adline in the meantime. In this webinar\, experienced government contracti
 ng attorney Maria Panichelli will provide you with the roadmap and resourc
 es necessary to defend against the protest\, keep the contract you earned\
 , and keep your costs down. Specifically\, you’ll learn about:\n\nThe proc
 esses and procedures of intervention\nCommon bid protest defenses and stra
 tegies\nPractical tips for mitigating risk and costs\nHow to keep the cont
 ract you won!\nTarget Audience: Federal government contractors
X-WR-RELCALID:b10b5590ec87d82289bebb01971cff48
X-WR-TIMEZONE:America/Chicago
BEGIN:VTIMEZONE
TZID:America/Chicago
BEGIN:STANDARD
TZNAME:CST
DTSTART:20221106T020000
TZOFFSETFROM:-0500
TZOFFSETTO:-0600
RDATE:20231105T020000
RDATE:20241103T020000
END:STANDARD
BEGIN:DAYLIGHT
TZNAME:CDT
DTSTART:20230312T020000
TZOFFSETFROM:-0600
TZOFFSETTO:-0500
RDATE:20240310T020000
END:DAYLIGHT
END:VTIMEZONE
BEGIN:VEVENT
UID:c3ba88ae-f9a2-4a33-9e37-c6c14bb6a776
DTSTAMP:20260422T012324Z
DESCRIPTION:Description\nHave you ever received an award notice\, only to b
 e told several days later that the contract is on hold\, all because of a 
 bid protest filed by a disgruntled competitor? If so\, you may know how ha
 rd it can be to find answers and how quickly you can miss an important dea
 dline in the meantime. In this webinar\, experienced government contractin
 g attorney Maria Panichelli will provide you with the roadmap and resource
 s necessary to defend against the protest\, keep the contract you earned\,
  and keep your costs down. Specifically\, you’ll learn about:\n\nThe proce
 sses and procedures of intervention\nCommon bid protest defenses and strat
 egies\nPractical tips for mitigating risk and costs\nHow to keep the contr
 act you won!\nTarget Audience: Federal government contractors
DTSTART;TZID=America/Chicago:20230509T110000
DTEND;TZID=America/Chicago:20230509T123000
LOCATION:https://govology.com/product/keeping-your-contract-award-through-b
 id-protest-intervention/
SUMMARY:Keeping Your Contract Award Through Bid Protest Intervention
END:VEVENT
END:VCALENDAR
