BEGIN:VCALENDAR
VERSION:2.0
PRODID:-//pedco-ne.org//NONSGML kigkonsult.se iCalcreator 2.30.10//
CALSCALE:GREGORIAN
METHOD:PUBLISH
UID:a46dd400-d18e-42fa-82ad-c6391bbf475b
X-WR-CALDESC:Federal Emergency Management Agency (FEMA)\nOffice of the Chie
 f Component Procurement Officer (OCCPO)\nand FEMA Region II\nPresents\nHow
  To Do Business with FEMA ZOOM Webinar\nWednesday\, May 10\, 2023\n10:00 a
 .m. â€“ 1:00 p.m.\, Eastern Standard Time (EST)\nPRE-REGISTRATION REQUIRED\n
 â–º Register online at:\nhttps://fema.zoomgov.com/webinar/register/WN_zZ1aTC
 L7QNCwFATX4_KIAA\nThe target audience for this webinar are businesses loca
 ted in the following states: New York\, New Jersey\, Commonwealth of Puert
 o Rico\, Territory of the U.S. Virgin Island\nâ–º All registration requests 
 must be completed by Tuesday\, May 9\, 2023.\nâ–º Each company may register 
 a maximum of 3 (three) participants (NO EXCEPTIONS)\nâ–º Registration will a
 utomatically close once maximum capacity has been reached (NO EXCEPTIONS)
 \nânâ Please submit questions regarding this webinar to FEMA-Industry-Regist
 ration@fema.dhs.gov\nFederal Emergency Management Agency\nU.S. Department 
 of Homeland Security\n
X-WR-RELCALID:5f5bf92dc7a70c68b17f504df74a8323
X-WR-TIMEZONE:America/Chicago
BEGIN:VTIMEZONE
TZID:America/Chicago
BEGIN:STANDARD
TZNAME:CST
DTSTART:20221106T020000
TZOFFSETFROM:-0500
TZOFFSETTO:-0600
RDATE:20231105T020000
RDATE:20241103T020000
END:STANDARD
BEGIN:DAYLIGHT
TZNAME:CDT
DTSTART:20230312T020000
TZOFFSETFROM:-0600
TZOFFSETTO:-0500
RDATE:20240310T020000
END:DAYLIGHT
END:VTIMEZONE
BEGIN:VEVENT
UID:e678a339-33fd-4465-9735-f1d1062d0635
DTSTAMP:20260422T012441Z
DESCRIPTION:Federal Emergency Management Agency (FEMA)\nOffice of the Chief
  Component Procurement Officer (OCCPO)\nand FEMA Region II\nPresents\nHow 
 To Do Business with FEMA ZOOM Webinar\nWednesday\, May 10\, 2023\n10:00 a.
 m. â€“ 1:00 p.m.\, Eastern Standard Time (EST)\nPRE-REGISTRATION REQUIRED\nâ–º
  Register online at:\nhttps://fema.zoomgov.com/webinar/register/WN_zZ1aTCL
 7QNCwFATX4_KIAA\nThe target audience for this webinar are businesses locat
 ed in the following states: New York\, New Jersey\, Commonwealth of Puerto
  Rico\, Territory of the U.S. Virgin Island\nâ–º All registration requests m
 ust be completed by Tuesday\, May 9\, 2023.\nâ–º Each company may register a
  maximum of 3 (three) participants (NO EXCEPTIONS)\nâ–º Registration will au
 tomatically close once maximum capacity has been reached (NO EXCEPTIONS)\n
 â–º Please submit questions regarding this webinar to FEMA-Industry-Registra
 tion@fema.dhs.gov\nFederal Emergency Management Agency\nU.S. Department of
  Homeland Security\n
DTSTART;TZID=America/Chicago:20230510T090000
DTEND;TZID=America/Chicago:20230510T120000
LOCATION:https://fema.zoomgov.com/webinar/register/WN_zZ1aTCL7QNCwFATX4_KIA
 A
SUMMARY:How To Do Business With FEMA ZOOM Webinar
END:VEVENT
END:VCALENDAR
