BEGIN:VCALENDAR
VERSION:2.0
PRODID:-//pedco-ne.org//NONSGML kigkonsult.se iCalcreator 2.30.10//
CALSCALE:GREGORIAN
METHOD:PUBLISH
UID:5da902f3-398c-4a08-93bc-1aa041269910
X-WR-CALDESC:Federal Emergency Management Agency (FEMA)\nOffice of the Chie
 f Component Procurement Officer (OCCPO)\nand FEMA Region V\nPresents\nHow 
 To Do Business with FEMA ZOOM Webinar\nThursday\, May 11\, 2023\n10:00 a.m
 . – 1:00 p.m.\, Central Standard Time (CST)\nPRE-REGISTRATION REQUIRED\n► 
 Register online at:\nhttps://fema.zoomgov.com/webinar/register/WN_9iSK_12k
 S16WS-BVc7q4WA\nThe target audience for this webinar are businesses locate
 d in the following states: Illinois\, Minnesota\, Ohio\, Indiana\, Michiga
 n\, Wisconsin\n► All registration requests must be completed by Wednesday\
 , May 10\, 2023.\n► Each company may register a maximum of 3 (three) parti
 cipants (NO EXCEPTIONS)\n► Registration will automatically close once maxi
 mum capacity has been reached (NO EXCEPTIONS)\n► Please submit questions r
 egarding this webinar to FEMA-Industry-Registration@fema.dhs.gov\nFederal 
 Emergency Management Agency\nU.S. Department of Homeland Security
X-WR-RELCALID:bf4e7084be0d6b05cade492a95b8ea17
X-WR-TIMEZONE:America/Chicago
BEGIN:VTIMEZONE
TZID:America/Chicago
BEGIN:STANDARD
TZNAME:CST
DTSTART:20221106T020000
TZOFFSETFROM:-0500
TZOFFSETTO:-0600
RDATE:20231105T020000
RDATE:20241103T020000
END:STANDARD
BEGIN:DAYLIGHT
TZNAME:CDT
DTSTART:20230312T020000
TZOFFSETFROM:-0600
TZOFFSETTO:-0500
RDATE:20240310T020000
END:DAYLIGHT
END:VTIMEZONE
BEGIN:VEVENT
UID:40209a86-da87-49d4-9ce2-f4f8d1c0ce54
DTSTAMP:20260422T012435Z
DESCRIPTION:Federal Emergency Management Agency (FEMA)\nOffice of the Chief
  Component Procurement Officer (OCCPO)\nand FEMA Region V\nPresents\nHow T
 o Do Business with FEMA ZOOM Webinar\nThursday\, May 11\, 2023\n10:00 a.m.
  – 1:00 p.m.\, Central Standard Time (CST)\nPRE-REGISTRATION REQUIRED\n► R
 egister online at:\nhttps://fema.zoomgov.com/webinar/register/WN_9iSK_12kS
 16WS-BVc7q4WA\nThe target audience for this webinar are businesses located
  in the following states: Illinois\, Minnesota\, Ohio\, Indiana\, Michigan
 \, Wisconsin\n► All registration requests must be completed by Wednesday\,
  May 10\, 2023.\n► Each company may register a maximum of 3 (three) partic
 ipants (NO EXCEPTIONS)\n► Registration will automatically close once maxim
 um capacity has been reached (NO EXCEPTIONS)\n► Please submit questions re
 garding this webinar to FEMA-Industry-Registration@fema.dhs.gov\nFederal E
 mergency Management Agency\nU.S. Department of Homeland Security
DTSTART;TZID=America/Chicago:20230511T100000
DTEND;TZID=America/Chicago:20230511T130000
LOCATION:https://fema.zoomgov.com/webinar/register/WN_9iSK_12kS16WS-BVc7q4W
 A
SUMMARY:How To Do Business with FEMA ZOOM Webinar
END:VEVENT
END:VCALENDAR
