BEGIN:VCALENDAR
VERSION:2.0
PRODID:-//pedco-ne.org//NONSGML kigkonsult.se iCalcreator 2.30.10//
CALSCALE:GREGORIAN
METHOD:PUBLISH
UID:0bae97db-cadd-4604-9f3d-e1ea84455769
X-WR-CALDESC:Federal Emergency Management Agency (FEMA)\nOffice of the Chie
 f Component Procurement Officer (OCCPO)\nand FEMA Region IX\nPresents\nHow
  To Do Business With FEMA ZOOM Webinar\nThursday\, May 11\, 2023\n1:00 p.m
 . - 3:30 p.m.\, Eastern Standard Time (EST)\nPRE-REGISTRATION REQUIRED\n► 
 Register online at: https://fema.zoomgov.com/webinar/register/WN_pl68XMu-T
 CaoR4T4_xxZrw\n► The target audience for this webinar are businesses locat
 ed in the following states/territories/commonwealth: Arizona\, California\
 , Hawaii\, Nevada\, Guam\, American Samoa\, Commonwealth of the Northern M
 ariana Islands\n► All registration requests must be completed by Thursday\
 , May 4\, 2023\, 5:00 p.m.\, Eastern Standard Time (EST) (NO EXCEPTIONS)\n
 ► Each company may register a maximum of 3 (three) participants (NO EXCEPT
 IONS)\n► Registration will automatically close once maximum capacity has b
 een reached (NO EXCEPTIONS)\n► Please submit questions regarding this webi
 nar to FEMA-Industry-Registration@fema.dhs.gov\nFederal Emergency Manageme
 nt Agency\nU.S. Department of Homeland Security
X-WR-RELCALID:dbc14bb515acc64e17806c05ac500fed
X-WR-TIMEZONE:America/Chicago
BEGIN:VTIMEZONE
TZID:America/Chicago
BEGIN:STANDARD
TZNAME:CST
DTSTART:20221106T020000
TZOFFSETFROM:-0500
TZOFFSETTO:-0600
RDATE:20231105T020000
RDATE:20241103T020000
END:STANDARD
BEGIN:DAYLIGHT
TZNAME:CDT
DTSTART:20230312T020000
TZOFFSETFROM:-0600
TZOFFSETTO:-0500
RDATE:20240310T020000
END:DAYLIGHT
END:VTIMEZONE
BEGIN:VEVENT
UID:5373a57a-b39d-4632-99b7-7a58e4d0b72c
DTSTAMP:20260422T012435Z
DESCRIPTION:Federal Emergency Management Agency (FEMA)\nOffice of the Chief
  Component Procurement Officer (OCCPO)\nand FEMA Region IX\nPresents\nHow 
 To Do Business With FEMA ZOOM Webinar\nThursday\, May 11\, 2023\n1:00 p.m.
  - 3:30 p.m.\, Eastern Standard Time (EST)\nPRE-REGISTRATION REQUIRED\n► R
 egister online at: https://fema.zoomgov.com/webinar/register/WN_pl68XMu-TC
 aoR4T4_xxZrw\n► The target audience for this webinar are businesses locate
 d in the following states/territories/commonwealth: Arizona\, California\,
  Hawaii\, Nevada\, Guam\, American Samoa\, Commonwealth of the Northern Ma
 riana Islands\n► All registration requests must be completed by Thursday\,
  May 4\, 2023\, 5:00 p.m.\, Eastern Standard Time (EST) (NO EXCEPTIONS)\n►
  Each company may register a maximum of 3 (three) participants (NO EXCEPTI
 ONS)\n► Registration will automatically close once maximum capacity has be
 en reached (NO EXCEPTIONS)\n► Please submit questions regarding this webin
 ar to FEMA-Industry-Registration@fema.dhs.gov\nFederal Emergency Managemen
 t Agency\nU.S. Department of Homeland Security
DTSTART;TZID=America/Chicago:20230511T120000
DTEND;TZID=America/Chicago:20230511T143000
LOCATION:https://fema.zoomgov.com/webinar/register/WN_pl68XMu-TCaoR4T4_xxZr
 w
SUMMARY:How To Do Business With FEMA ZOOM Webinar
END:VEVENT
END:VCALENDAR
