BEGIN:VCALENDAR
VERSION:2.0
PRODID:-//pedco-ne.org//NONSGML kigkonsult.se iCalcreator 2.30.10//
CALSCALE:GREGORIAN
METHOD:PUBLISH
UID:70d03861-e579-48ab-95d0-9e18df4558e7
X-WR-CALDESC:Federal Emergency Management Agency (FEMA)\nOffice of the Chie
 f Component Procurement Officer (OCCPO)\nand FEMA Region I\nPresents\nHow 
 To Do Business With FEMA ZOOM Webinar\nMonday\, May 15\, 2023\n9:30 a.m. -
  12:00 p.m.\, Eastern Standard Time (EST)\nPRE-REGISTRATION REQUIRED\n► Re
 gister online at: https://fema.zoomgov.com/webinar/register/WN_V1XpAwLJRJC
 NJnWbcRye3g\n► The target audience for this webinar are businesses located
  in the following states: Maine\, Vermont\, New Hampshire\, Massachusetts\
 , Connecticut\, Rhode Island\n► All registration requests must be complete
 d by Friday\, May 12\, 2023\, 5:00 p.m.\, Eastern Standard Time (EST) (NO 
 EXCEPTIONS)\n► Each company may register a maximum of 3 (three) participan
 ts (NO EXCEPTIONS)\n► Registration will automatically close once maximum c
 apacity has been reached (NO EXCEPTIONS)\n► Please submit questions regard
 ing this webinar to FEMA-Industry-Registration@fema.dhs.gov\nFederal Emerg
 ency Management Agency\nU.S. Department of Homeland Security\n“FEMA
X-WR-RELCALID:8219c322ea1fd44cc0b9f76f2faa56b9
X-WR-TIMEZONE:America/Chicago
BEGIN:VTIMEZONE
TZID:America/Chicago
BEGIN:STANDARD
TZNAME:CST
DTSTART:20221106T020000
TZOFFSETFROM:-0500
TZOFFSETTO:-0600
RDATE:20231105T020000
RDATE:20241103T020000
END:STANDARD
BEGIN:DAYLIGHT
TZNAME:CDT
DTSTART:20230312T020000
TZOFFSETFROM:-0600
TZOFFSETTO:-0500
RDATE:20240310T020000
END:DAYLIGHT
END:VTIMEZONE
BEGIN:VEVENT
UID:76762c3e-eb21-45a6-9e9b-6cb3bfafe4c6
DTSTAMP:20260422T012553Z
DESCRIPTION:Federal Emergency Management Agency (FEMA)\nOffice of the Chief
  Component Procurement Officer (OCCPO)\nand FEMA Region I\nPresents\nHow T
 o Do Business With FEMA ZOOM Webinar\nMonday\, May 15\, 2023\n9:30 a.m. - 
 12:00 p.m.\, Eastern Standard Time (EST)\nPRE-REGISTRATION REQUIRED\n► Reg
 ister online at: https://fema.zoomgov.com/webinar/register/WN_V1XpAwLJRJCN
 JnWbcRye3g\n► The target audience for this webinar are businesses located 
 in the following states: Maine\, Vermont\, New Hampshire\, Massachusetts\,
  Connecticut\, Rhode Island\n► All registration requests must be completed
  by Friday\, May 12\, 2023\, 5:00 p.m.\, Eastern Standard Time (EST) (NO E
 XCEPTIONS)\n► Each company may register a maximum of 3 (three) participant
 s (NO EXCEPTIONS)\n► Registration will automatically close once maximum ca
 pacity has been reached (NO EXCEPTIONS)\n► Please submit questions regardi
 ng this webinar to FEMA-Industry-Registration@fema.dhs.gov\nFederal Emerge
 ncy Management Agency\nU.S. Department of Homeland Security\n“FEMA
DTSTART;TZID=America/Chicago:20230515T103000
DTEND;TZID=America/Chicago:20230515T110000
LOCATION:https://fema.zoomgov.com/webinar/register/WN_V1XpAwLJRJCNJnWbcRye3
 g
SUMMARY:How To Do Business With FEMA ZOOM Webinar
END:VEVENT
END:VCALENDAR
