BEGIN:VCALENDAR
VERSION:2.0
PRODID:-//pedco-ne.org//NONSGML kigkonsult.se iCalcreator 2.30.10//
CALSCALE:GREGORIAN
METHOD:PUBLISH
UID:3041c73d-aa3c-470c-9080-47e1c32cd47b
X-WR-CALDESC:Description\nGovernment contracting law is complex\, and the r
 ules aren’t always intuitive. As a result\, many contractors make the same
  legal mistakes\, involving everything from completing SAM profiles to cal
 culating small business size to communicating with government contracting 
 officers.\n\nIn this webinar\, experienced government contracting attorney
 s Nicole Pottroff and Greg Weber will unveil the top 21 most common legal 
 mistakes they see contractors make time and time again. You will learn wha
 t these common mistakes are and how to avoid them.\n\nTarget Audience: New
  and experienced government contractors
X-WR-RELCALID:0d63e32418100c4f16c65c3ff8aef6df
X-WR-TIMEZONE:America/Chicago
BEGIN:VTIMEZONE
TZID:America/Chicago
BEGIN:STANDARD
TZNAME:CST
DTSTART:20221106T020000
TZOFFSETFROM:-0500
TZOFFSETTO:-0600
RDATE:20231105T020000
RDATE:20241103T020000
END:STANDARD
BEGIN:DAYLIGHT
TZNAME:CDT
DTSTART:20230312T020000
TZOFFSETFROM:-0600
TZOFFSETTO:-0500
RDATE:20240310T020000
END:DAYLIGHT
END:VTIMEZONE
BEGIN:VEVENT
UID:1536109c-5faa-4e59-9866-26a363302667
DTSTAMP:20260422T012951Z
DESCRIPTION:Description\nGovernment contracting law is complex\, and the ru
 les aren’t always intuitive. As a result\, many contractors make the same 
 legal mistakes\, involving everything from completing SAM profiles to calc
 ulating small business size to communicating with government contracting o
 fficers.\n\nIn this webinar\, experienced government contracting attorneys
  Nicole Pottroff and Greg Weber will unveil the top 21 most common legal m
 istakes they see contractors make time and time again. You will learn what
  these common mistakes are and how to avoid them.\n\nTarget Audience: New 
 and experienced government contractors
DTSTART;TZID=America/Chicago:20230518T110000
DTEND;TZID=America/Chicago:20230518T123000
LOCATION:https://govology.com/product/top-21-legal-mistakes-in-government-c
 ontracting/
SUMMARY:Top 21 Legal Mistakes in Government Contracting (2023 Update)
END:VEVENT
END:VCALENDAR
