BEGIN:VCALENDAR
VERSION:2.0
PRODID:-//pedco-ne.org//NONSGML kigkonsult.se iCalcreator 2.30.10//
CALSCALE:GREGORIAN
METHOD:PUBLISH
UID:06072843-bed8-401e-8d44-2e23e87ed8f0
X-WR-CALDESC:Description\nMost government solicitations require references 
 in some shape or form. So what can you do before being asked to collect in
 formation regarding past performance?\n\nWhen your contract is over\, ther
 e is a failsafe way to keep the memory alive and create an archive for fut
 ure opportunities. Certain awards garner a Contractor Performance Assessme
 nt Report (CPAR)\, but what should you do when they don’t? Asking Contract
 ing Officer Representative (COR) who managed your contract in the past may
  not be a good strategy for many reasons.\n\nIn this webinar\, Sheila Hami
 lton (Sheila Lee & Associates) will teach you how to create your past perf
 ormance library. In addition\, she will explain the differences between pa
 st performance and experience and discuss building your network.\n\nTarget
  Audience: Small businesses pursuing federal contracting opportunities\, e
 specially professionals in marketing and sales roles
X-WR-RELCALID:a94c9627ae66cadd4842bfaa06f0eadf
X-WR-TIMEZONE:America/Chicago
BEGIN:VTIMEZONE
TZID:America/Chicago
BEGIN:STANDARD
TZNAME:CST
DTSTART:20221106T020000
TZOFFSETFROM:-0500
TZOFFSETTO:-0600
RDATE:20231105T020000
RDATE:20241103T020000
END:STANDARD
BEGIN:DAYLIGHT
TZNAME:CDT
DTSTART:20230312T020000
TZOFFSETFROM:-0600
TZOFFSETTO:-0500
RDATE:20240310T020000
END:DAYLIGHT
END:VTIMEZONE
BEGIN:VEVENT
UID:0fdb47d3-105f-465e-bd4d-9967236d5db9
DTSTAMP:20260422T012309Z
DESCRIPTION:Description\nMost government solicitations require references i
 n some shape or form. So what can you do before being asked to collect inf
 ormation regarding past performance?\n\nWhen your contract is over\, there
  is a failsafe way to keep the memory alive and create an archive for futu
 re opportunities. Certain awards garner a Contractor Performance Assessmen
 t Report (CPAR)\, but what should you do when they don’t? Asking Contracti
 ng Officer Representative (COR) who managed your contract in the past may 
 not be a good strategy for many reasons.\n\nIn this webinar\, Sheila Hamil
 ton (Sheila Lee & Associates) will teach you how to create your past perfo
 rmance library. In addition\, she will explain the differences between pas
 t performance and experience and discuss building your network.\n\nTarget 
 Audience: Small businesses pursuing federal contracting opportunities\, es
 pecially professionals in marketing and sales roles
DTSTART;TZID=America/Chicago:20230523T110000
DTEND;TZID=America/Chicago:20230523T123000
LOCATION:https://govology.com/product/building-your-past-performance-librar
 y/
SUMMARY:Building Your Past Performance Library
END:VEVENT
END:VCALENDAR
