BEGIN:VCALENDAR
VERSION:2.0
PRODID:-//pedco-ne.org//NONSGML kigkonsult.se iCalcreator 2.30.10//
CALSCALE:GREGORIAN
METHOD:PUBLISH
UID:7b4eddc2-0178-448b-9b9e-c2456346fed8
X-WR-CALDESC:Federal Emergency Management Agency (FEMA)\nOffice of the Chie
 f Component Procurement Officer (OCCPO)\nand FEMA Region IV\nPresents\nHow
  To Do Business With FEMA ZOOM Webinar\nTuesday\, May 23\, 2023\n10:00 a.m
 . - 12:30 p.m.\, Eastern Standard Time (EST)\nPRE-REGISTRATION REQUIRED\n►
  Register online at: https://fema.zoomgov.com/webinar/register/WN_IrZ4jf9L
 TwGVy-HuJOOY4Q\n► The target audience for this webinar are businesses loca
 ted in the following states: Alabama\, Florida\, Georgia\, Kentucky\, Miss
 issippi\, North Carolina\, South Carolina\, Tennessee\n► All registration 
 requests must be completed by Tuesday\, May 16\, 2023\, 5:00 p.m.\, Easter
 n Standard Time (EST) (NO EXCEPTIONS)\n► Each company may register a maxim
 um of 3 (three) participants (NO EXCEPTIONS)\n► Registration will automati
 cally close once maximum capacity has been reached (NO EXCEPTIONS)\n► Plea
 se submit questions regarding this webinar to FEMA-Industry-Registration@f
 ema.dhs.gov\nFederal Emergency Management Agency\nU.S. Department of Homel
 and Security
X-WR-RELCALID:82af1d0172e56e2ac2cdd8312210b573
X-WR-TIMEZONE:America/Chicago
BEGIN:VTIMEZONE
TZID:America/Chicago
BEGIN:STANDARD
TZNAME:CST
DTSTART:20221106T020000
TZOFFSETFROM:-0500
TZOFFSETTO:-0600
RDATE:20231105T020000
RDATE:20241103T020000
END:STANDARD
BEGIN:DAYLIGHT
TZNAME:CDT
DTSTART:20230312T020000
TZOFFSETFROM:-0600
TZOFFSETTO:-0500
RDATE:20240310T020000
END:DAYLIGHT
END:VTIMEZONE
BEGIN:VEVENT
UID:70611848-cffe-48a5-9d68-419403da0435
DTSTAMP:20260422T012441Z
DESCRIPTION:Federal Emergency Management Agency (FEMA)\nOffice of the Chief
  Component Procurement Officer (OCCPO)\nand FEMA Region IV\nPresents\nHow 
 To Do Business With FEMA ZOOM Webinar\nTuesday\, May 23\, 2023\n10:00 a.m.
  - 12:30 p.m.\, Eastern Standard Time (EST)\nPRE-REGISTRATION REQUIRED\n► 
 Register online at: https://fema.zoomgov.com/webinar/register/WN_IrZ4jf9LT
 wGVy-HuJOOY4Q\n► The target audience for this webinar are businesses locat
 ed in the following states: Alabama\, Florida\, Georgia\, Kentucky\, Missi
 ssippi\, North Carolina\, South Carolina\, Tennessee\n► All registration r
 equests must be completed by Tuesday\, May 16\, 2023\, 5:00 p.m.\, Eastern
  Standard Time (EST) (NO EXCEPTIONS)\n► Each company may register a maximu
 m of 3 (three) participants (NO EXCEPTIONS)\n► Registration will automatic
 ally close once maximum capacity has been reached (NO EXCEPTIONS)\n► Pleas
 e submit questions regarding this webinar to FEMA-Industry-Registration@fe
 ma.dhs.gov\nFederal Emergency Management Agency\nU.S. Department of Homela
 nd Security
DTSTART;TZID=America/Chicago:20230523T090000
DTEND;TZID=America/Chicago:20230523T113000
LOCATION:https://fema.zoomgov.com/webinar/register/WN_IrZ4jf9LTwGVy-HuJOOY4
 Q
SUMMARY:How To Do Business With FEMA ZOOM Webinar
END:VEVENT
END:VCALENDAR
