BEGIN:VCALENDAR
VERSION:2.0
PRODID:-//pedco-ne.org//NONSGML kigkonsult.se iCalcreator 2.30.10//
CALSCALE:GREGORIAN
METHOD:PUBLISH
UID:79fb6c71-1717-41a8-8ef2-6a89e915a6df
X-WR-CALDESC:Description\nCyberattacks are on the rise\, and small business
 es are primary targets. Many small businesses are unsure where to begin wh
 en improving their cybersecurity. With dangerous attacks such as phishing 
 and ransomware crippling small businesses\, many are looking for affordabl
 e methods to improve their likely substandard cybersecurity postures. Furt
 hermore\, many insurance companies require small businesses to demonstrate
  cybersecurity due diligence before issuing cyber or even general liabilit
 y insurance policies.\n\nDuring this webinar\, we’ll share our methodology
  for reducing cybersecurity risk within a small business environment. This
  methodology\, derived from recommendations by leading security organizati
 ons\, outlines ten simple (and affordable) steps to building a resilient c
 ybersecurity program tailored to small business resource constraints. You 
 will learn about recent cybersecurity trends and what you must do to prote
 ct your business.\n\nTarget Audience: Small business owners/leaders/manage
 rs\, IT & security personnel\, anyone with a role or interest in cybersecu
 rity efforts
X-WR-RELCALID:19ad2d3d27c8d978bd8a78a4e4b7ab95
X-WR-TIMEZONE:America/Chicago
BEGIN:VTIMEZONE
TZID:America/Chicago
BEGIN:STANDARD
TZNAME:CST
DTSTART:20221106T020000
TZOFFSETFROM:-0500
TZOFFSETTO:-0600
RDATE:20231105T020000
RDATE:20241103T020000
END:STANDARD
BEGIN:DAYLIGHT
TZNAME:CDT
DTSTART:20230312T020000
TZOFFSETFROM:-0600
TZOFFSETTO:-0500
RDATE:20240310T020000
RDATE:20250309T020000
END:DAYLIGHT
END:VTIMEZONE
BEGIN:VEVENT
UID:8cfb9fdd-6b53-41f4-a2b2-cb1fd733f357
DTSTAMP:20260421T191515Z
DESCRIPTION:Description\nCyberattacks are on the rise\, and small businesse
 s are primary targets. Many small businesses are unsure where to begin whe
 n improving their cybersecurity. With dangerous attacks such as phishing a
 nd ransomware crippling small businesses\, many are looking for affordable
  methods to improve their likely substandard cybersecurity postures. Furth
 ermore\, many insurance companies require small businesses to demonstrate 
 cybersecurity due diligence before issuing cyber or even general liability
  insurance policies.\n\nDuring this webinar\, we’ll share our methodology 
 for reducing cybersecurity risk within a small business environment. This 
 methodology\, derived from recommendations by leading security organizatio
 ns\, outlines ten simple (and affordable) steps to building a resilient cy
 bersecurity program tailored to small business resource constraints. You w
 ill learn about recent cybersecurity trends and what you must do to protec
 t your business.\n\nTarget Audience: Small business owners/leaders/manager
 s\, IT & security personnel\, anyone with a role or interest in cybersecur
 ity efforts
DTSTART;TZID=America/Chicago:20230921T120000
DTEND;TZID=America/Chicago:20230921T133000
LOCATION:https://govology.com/product/cybersecurity-essentials-that-protect
 -your-business-and-customer/
SUMMARY:Cybersecurity Essentials That Protect Your Business and Customer
END:VEVENT
END:VCALENDAR
