BEGIN:VCALENDAR
VERSION:2.0
PRODID:-//pedco-ne.org//NONSGML kigkonsult.se iCalcreator 2.30.10//
CALSCALE:GREGORIAN
METHOD:PUBLISH
UID:faaf5b87-20dd-4465-909c-c243259f39b9
X-WR-CALDESC:Description\nNothing is scarier to government contractors than
  the prospect of suspension or debarment. In this webinar\, experienced go
 vernment contracts attorney Maria Panichelli will discuss the ethical issu
 es and common causes of suspensions and debarments\, which can keep you fr
 om doing future business with the federal government.\n\nMaria Panichelli 
 will provide insights into what sort of conduct will raise a red flag with
  government personnel and how to protect your business against some of the
  most common mistakes that lead to debarment. She will also discuss what t
 o do if facing an investigation that may lead to a suspension or debarment
 . Finally\, the webinar will cover the rights and remedies available to co
 ntractors in fighting an improper suspension or debarment to preserve your
  business with the federal government.\n\nWebinar Learning Objectives:\n\n
 Learn about the suspension and debarment process\nIdentify and avoid the m
 ost common causes of suspension and debarment\nFormulate compliance plans 
 to minimize risk\nLearn how to defend against proposed suspension and deba
 rment\nTarget Audience: Government contractors
X-WR-RELCALID:6e41ee2f6addd9926401e86f329080ab
X-WR-TIMEZONE:America/Chicago
BEGIN:VTIMEZONE
TZID:America/Chicago
BEGIN:STANDARD
TZNAME:CST
DTSTART:20221106T020000
TZOFFSETFROM:-0500
TZOFFSETTO:-0600
RDATE:20231105T020000
RDATE:20241103T020000
END:STANDARD
BEGIN:DAYLIGHT
TZNAME:CDT
DTSTART:20230312T020000
TZOFFSETFROM:-0600
TZOFFSETTO:-0500
RDATE:20240310T020000
RDATE:20250309T020000
END:DAYLIGHT
END:VTIMEZONE
BEGIN:VEVENT
UID:3d9e5b75-1e50-487c-ad8b-f35dc893803e
DTSTAMP:20260421T174653Z
DESCRIPTION:Description\nNothing is scarier to government contractors than 
 the prospect of suspension or debarment. In this webinar\, experienced gov
 ernment contracts attorney Maria Panichelli will discuss the ethical issue
 s and common causes of suspensions and debarments\, which can keep you fro
 m doing future business with the federal government.\n\nMaria Panichelli w
 ill provide insights into what sort of conduct will raise a red flag with 
 government personnel and how to protect your business against some of the 
 most common mistakes that lead to debarment. She will also discuss what to
  do if facing an investigation that may lead to a suspension or debarment.
  Finally\, the webinar will cover the rights and remedies available to con
 tractors in fighting an improper suspension or debarment to preserve your 
 business with the federal government.\n\nWebinar Learning Objectives:\n\nL
 earn about the suspension and debarment process\nIdentify and avoid the mo
 st common causes of suspension and debarment\nFormulate compliance plans t
 o minimize risk\nLearn how to defend against proposed suspension and debar
 ment\nTarget Audience: Government contractors
DTSTART;TZID=America/Chicago:20231017T120000
DTEND;TZID=America/Chicago:20231017T133000
LOCATION:https://govology.com/product/suspensions-debarment-and-related-eth
 ical-issues-for-federal-contractors/
SUMMARY:Suspensions\, Debarment and Related Ethical Issues for Federal Cont
 ractors
END:VEVENT
END:VCALENDAR
