BEGIN:VCALENDAR
VERSION:2.0
PRODID:-//pedco-ne.org//NONSGML kigkonsult.se iCalcreator 2.30.10//
CALSCALE:GREGORIAN
METHOD:PUBLISH
UID:f59e609d-1aa8-4cc9-9600-b98ee6eedd8e
X-WR-CALDESC:Join attorney Jack Shelton in this engaging and eye-opening we
 binar as he demystifies the complex world of item classification for expor
 t control purposes. Say goodbye to confusion and hello to clarity as Jack 
 takes you through real-world examples\, providing a deeper understanding o
 f the decision-making processes involved.\n\nIn this webinar\, you won’t j
 ust get a generic overview of the rules – you’ll witness firsthand how to 
 navigate the intricacies of classifying items. Gain valuable insights into
  the order of review when classifying items under the ITAR’s U.S. Munition
 s List\, the EAR’s Commerce Control List\, or as EAR99.\n\nTarget Audience
 : Businesses that deal in export-controlled hardware\, technology\, and so
 ftware.
X-WR-RELCALID:9d81618749591a5d7e6630fe707f22d9
X-WR-TIMEZONE:America/Chicago
BEGIN:VTIMEZONE
TZID:America/Chicago
BEGIN:STANDARD
TZNAME:CST
DTSTART:20221106T020000
TZOFFSETFROM:-0500
TZOFFSETTO:-0600
RDATE:20231105T020000
RDATE:20241103T020000
END:STANDARD
BEGIN:DAYLIGHT
TZNAME:CDT
DTSTART:20230312T020000
TZOFFSETFROM:-0600
TZOFFSETTO:-0500
RDATE:20240310T020000
RDATE:20250309T020000
END:DAYLIGHT
END:VTIMEZONE
BEGIN:VEVENT
UID:55cf2001-892b-45f9-b2fd-45a327684c9a
DTSTAMP:20260421T174733Z
DESCRIPTION:Join attorney Jack Shelton in this engaging and eye-opening web
 inar as he demystifies the complex world of item classification for export
  control purposes. Say goodbye to confusion and hello to clarity as Jack t
 akes you through real-world examples\, providing a deeper understanding of
  the decision-making processes involved.\n\nIn this webinar\, you won’t ju
 st get a generic overview of the rules – you’ll witness firsthand how to n
 avigate the intricacies of classifying items. Gain valuable insights into 
 the order of review when classifying items under the ITAR’s U.S. Munitions
  List\, the EAR’s Commerce Control List\, or as EAR99.\n\nTarget Audience:
  Businesses that deal in export-controlled hardware\, technology\, and sof
 tware.
DTSTART;TZID=America/Chicago:20231024T120000
DTEND;TZID=America/Chicago:20231024T133000
LOCATION:https://govology.com/product/classifications-under-u-s-export-cont
 rols-itar-and-ear/
SUMMARY:Classifications Under U.S. Export Controls (ITAR and EAR)
END:VEVENT
END:VCALENDAR
