BEGIN:VCALENDAR
VERSION:2.0
PRODID:-//pedco-ne.org//NONSGML kigkonsult.se iCalcreator 2.30.10//
CALSCALE:GREGORIAN
METHOD:PUBLISH
UID:fab2f30f-4898-4e09-8333-d66d3debdd32
X-WR-CALDESC:25th Annual SADBOC Government Procurement Fair\nDate: 4/11/202
 4\nTime: 9:00 AM - 3:00 PM (CDT)\nRegistration Deadline: 4/11/2024 8:00 AM
  (CDT)\nFee: No Fee\n\nPoint of Contact: Christina Nebel-Dickerson (651) 2
 01-2629\nLocation: Heritage Center of Brooklyn Center 6155 Earle Brown Dri
 ve\, Brooklyn Center MN\n\nProgram Format: Multi-session Course\nTraining 
 Topics: Certifcation\, Cybersecurity\, Government Industrial Base (GIB) Re
 adiness\, Legal Issues\, Procurement Fair\, SBIR/STTR/Other Innovation Pro
 grams\, Selling to Government\, Small Disadvantaged Businesses\, Woman-own
 ed Businesses\nDescription:\nSmall businesses interested in doing business
  with government agencies and prime contractors are encouraged to attend t
 his Trade Fair. Coupling education with marketing strategies\, this event 
 will provide small businesses an opportunity to meet with representatives 
 from more than 60 Federal\, State and local agencies\, commercial/prime co
 ntractors\, and nonprofit organizations\; access available technical assis
 tance\; and learn about upcoming contracts. The 25th Annual SADBOC Governm
 ent Procurement Fair is sponsored by the Federal Executive Board’s Small a
 nd Disadvantaged Business Opportunities Council\, in cooperation with the 
 State of Minnesota's APEX Accelerator.\n\nMatchmaking\nSmall businesses ha
 ve the opportunity to be matched with a government or corporate buyer inte
 rested in their particular product/service (by appointment only). For an o
 pportunity to get matched – watch for Matchmaking signup beginning March 2
 5th\; Matchmaking will close April 5th\, 2024.\n\n\n\n
X-WR-RELCALID:c3514b8fde2b2dc33f7e061d282d6b32
X-WR-TIMEZONE:America/Chicago
BEGIN:VTIMEZONE
TZID:America/Chicago
BEGIN:STANDARD
TZNAME:CST
DTSTART:20231105T020000
TZOFFSETFROM:-0500
TZOFFSETTO:-0600
RDATE:20241103T020000
END:STANDARD
BEGIN:DAYLIGHT
TZNAME:CDT
DTSTART:20240310T020000
TZOFFSETFROM:-0600
TZOFFSETTO:-0500
RDATE:20250309T020000
END:DAYLIGHT
END:VTIMEZONE
BEGIN:VEVENT
UID:22b8a79e-1b5a-455d-97c6-c3d22451382b
DTSTAMP:20260421T032149Z
DESCRIPTION:25th Annual SADBOC Government Procurement Fair\nDate: 4/11/2024
 \nTime: 9:00 AM - 3:00 PM (CDT)\nRegistration Deadline: 4/11/2024 8:00 AM 
 (CDT)\nFee: No Fee\n\nPoint of Contact: Christina Nebel-Dickerson (651) 20
 1-2629\nLocation: Heritage Center of Brooklyn Center 6155 Earle Brown Driv
 e\, Brooklyn Center MN\n\nProgram Format: Multi-session Course\nTraining T
 opics: Certifcation\, Cybersecurity\, Government Industrial Base (GIB) Rea
 diness\, Legal Issues\, Procurement Fair\, SBIR/STTR/Other Innovation Prog
 rams\, Selling to Government\, Small Disadvantaged Businesses\, Woman-owne
 d Businesses\nDescription:\nSmall businesses interested in doing business 
 with government agencies and prime contractors are encouraged to attend th
 is Trade Fair. Coupling education with marketing strategies\, this event w
 ill provide small businesses an opportunity to meet with representatives f
 rom more than 60 Federal\, State and local agencies\, commercial/prime con
 tractors\, and nonprofit organizations\; access available technical assist
 ance\; and learn about upcoming contracts. The 25th Annual SADBOC Governme
 nt Procurement Fair is sponsored by the Federal Executive Board’s Small an
 d Disadvantaged Business Opportunities Council\, in cooperation with the S
 tate of Minnesota's APEX Accelerator.\n\nMatchmaking\nSmall businesses hav
 e the opportunity to be matched with a government or corporate buyer inter
 ested in their particular product/service (by appointment only). For an op
 portunity to get matched – watch for Matchmaking signup beginning March 25
 th\; Matchmaking will close April 5th\, 2024.\n\n\n\n
DTSTART;TZID=America/Chicago:20240411T090000
DTEND;TZID=America/Chicago:20240411T150000
LOCATION:Heritage Center\, 6155 Earle Browne Drive\, Brooklyn Center\, MN 5
 5430 US
SUMMARY:25th Annual SADBOC Government Spring Procurement Fair
END:VEVENT
END:VCALENDAR
