BEGIN:VCALENDAR
VERSION:2.0
PRODID:-//pedco-ne.org//NONSGML kigkonsult.se iCalcreator 2.30.10//
CALSCALE:GREGORIAN
METHOD:PUBLISH
UID:cdd31234-9106-4905-ba16-9883707a1b5a
X-WR-CALDESC:If you are a manufacturer or distributor interested in produci
 ng/selling parts and supplies for the military\, this may be of interest t
 o you.  The training is limited to 50 participants\, so act soon if you’d 
 like to be considered for attending – here’s the link to register.  The se
 minar is not intended for businesses involved in providing services.\n
X-WR-RELCALID:a42a43cacb2b8852422fcedd3240cba2
X-WR-TIMEZONE:America/Chicago
BEGIN:VTIMEZONE
TZID:America/Chicago
BEGIN:STANDARD
TZNAME:CST
DTSTART:20231105T020000
TZOFFSETFROM:-0500
TZOFFSETTO:-0600
RDATE:20241103T020000
RDATE:20251102T020000
END:STANDARD
BEGIN:DAYLIGHT
TZNAME:CDT
DTSTART:20240310T020000
TZOFFSETFROM:-0600
TZOFFSETTO:-0500
RDATE:20250309T020000
END:DAYLIGHT
END:VTIMEZONE
BEGIN:VEVENT
UID:51ab0531-5edc-48b3-8a82-c499d5bb16fb
DTSTAMP:20260421T032458Z
DESCRIPTION:If you are a manufacturer or distributor interested in producin
 g/selling parts and supplies for the military\, this may be of interest to
  you.  The training is limited to 50 participants\, so act soon if you’d l
 ike to be considered for attending – here’s the link to register.  The sem
 inar is not intended for businesses involved in providing services.\n
DTSTART;TZID=America/Chicago:20240507T050000
DTEND;TZID=America/Chicago:20240508T050001
LOCATION:DLA Land and Maritime\, 3990 E Broad St\, Columbus\, OH 43213 US
SUMMARY:IN PERSON Training\, Knowledge\, Opportunities (TKO) Seminar May 7-
 8\, 2024 - DLA Land and Maritime\, Columbus\, OH
END:VEVENT
END:VCALENDAR
