BEGIN:VCALENDAR
VERSION:2.0
PRODID:-//pedco-ne.org//NONSGML kigkonsult.se iCalcreator 2.30.10//
CALSCALE:GREGORIAN
METHOD:PUBLISH
UID:1d3705de-07f6-424b-a618-25969c159341
X-WR-CALDESC:Join government contracts attorneys Nicole Pottroff and Greg W
 eber as they delve into the intricacies of the nonmanufacturer rule in thi
 s comprehensive webinar. Despite its seemingly straightforward definition\
 , being classified as a “nonmanufacturer” entails more than simply not bei
 ng the manufacturer. In this course\, Nicole and Greg will dissect the com
 plexities of this rule in plain English\, covering essential topics such a
 s:\n\nUnderstanding the four-part test for nonmanufacturer status\nExplori
 ng SBA waivers and their implications\nSpecial considerations for “kitters
 ” in the context of the nonmanufacturer rule\nExceptions applicable to pro
 curements below the simplified acquisition threshold\nAnd much more\nGain 
 clarity and insight into navigating the nuances of the nonmanufacturer rul
 e to ensure compliance and success in selling another entity’s manufacture
 d products as a small business.\n\nTarget Audience: Resellers and distribu
 tors selling to government agencies
X-WR-RELCALID:df32e1a9b33fa49b177af5f5db21ca8e
X-WR-TIMEZONE:America/Chicago
BEGIN:VTIMEZONE
TZID:America/Chicago
BEGIN:STANDARD
TZNAME:CST
DTSTART:20231105T020000
TZOFFSETFROM:-0500
TZOFFSETTO:-0600
RDATE:20241103T020000
RDATE:20251102T020000
END:STANDARD
BEGIN:DAYLIGHT
TZNAME:CDT
DTSTART:20240310T020000
TZOFFSETFROM:-0600
TZOFFSETTO:-0500
RDATE:20250309T020000
END:DAYLIGHT
END:VTIMEZONE
BEGIN:VEVENT
UID:3fe65851-322c-4e7f-867b-c785f890227e
DTSTAMP:20260421T002202Z
DESCRIPTION:Join government contracts attorneys Nicole Pottroff and Greg We
 ber as they delve into the intricacies of the nonmanufacturer rule in this
  comprehensive webinar. Despite its seemingly straightforward definition\,
  being classified as a “nonmanufacturer” entails more than simply not bein
 g the manufacturer. In this course\, Nicole and Greg will dissect the comp
 lexities of this rule in plain English\, covering essential topics such as
 :\n\nUnderstanding the four-part test for nonmanufacturer status\nExplorin
 g SBA waivers and their implications\nSpecial considerations for “kitters”
  in the context of the nonmanufacturer rule\nExceptions applicable to proc
 urements below the simplified acquisition threshold\nAnd much more\nGain c
 larity and insight into navigating the nuances of the nonmanufacturer rule
  to ensure compliance and success in selling another entity’s manufactured
  products as a small business.\n\nTarget Audience: Resellers and distribut
 ors selling to government agencies
DTSTART;TZID=America/Chicago:20240606T120000
DTEND;TZID=America/Chicago:20240606T133000
LOCATION:https://govology.com/product/understanding-complying-nonmanufactur
 er-rule/
SUMMARY:Understanding and Complying with the Nonmanufacturer Rule (2024 Upd
 ate)
END:VEVENT
END:VCALENDAR
